BEGIN:VCALENDAR
VERSION:2.0
PRODID:-//hacksw/handcal//NONSGML v1.0//EN
BEGIN:VEVENT
DTSTAMP:20230506T010000Z
DTSTART:20230506T010000Z
DTEND:20230506T040000Z

SUMMARY:ANUEL AA: LEGENDS NEVER DIE WORLD TOUR
DESCRIPTION:Anuel AA&#39;s Legends Never Die Tour at the American Airlines Center on August 28, 2022 has been postponed to May 5, 2023. For the latest fan safety guidelines at AAC: FULL FAN SAFETY GUIDELINES HERE 
END:VEVENT
END:VCALENDAR