BEGIN:VCALENDAR
VERSION:2.0
PRODID:-//hacksw/handcal//NONSGML v1.0//EN
BEGIN:VEVENT
DTSTAMP:20240503T010000Z
DTSTART:20240503T010000Z
DTEND:20240503T040000Z

SUMMARY:Bad Bunny
DESCRIPTION:Most Wanted TourBad Bunny’s Most Wanted Tour date on May 3rd has moved to Thursday, May 2nd. Ticketholders will be notified via their point of purchase and previously purchased tickets will be honored for the new date. For more information regarding rescheduled events, please visit this website. 
END:VEVENT
END:VCALENDAR