BEGIN:VCALENDAR
VERSION:2.0
PRODID:-//hacksw/handcal//NONSGML v1.0//EN
BEGIN:VEVENT
DTSTAMP:20260320T000000Z
DTSTART:20260320T000000Z
DTEND:20260320T020000Z

SUMMARY:Bad Omens
DESCRIPTION:DO YOU FEEL LOVENORTH AMERICAN TOUR 2026with Beartooth and PRESIDENT
END:VEVENT
END:VCALENDAR