BEGIN:VCALENDAR
VERSION:2.0
PRODID:-//hacksw/handcal//NONSGML v1.0//EN
BEGIN:VEVENT
DTSTAMP:20160915T010000Z
DTSTART:20160915T010000Z
DTEND:20160915T030000Z

SUMMARY:Bad Boy Family Reunion Tour
DESCRIPTION:Consistently at the forefront of music and entertainment for the past two decades, SEAN ‘DIDDY’ COMBS AKA PUFF DADDY continues his reign of excellence, today announcing the BAD BOY FAMILY REUNION TOUR.  PUFF DADDY, LIL’ KIM, MASE, FAITH EVANS, MARIO WINANS, 112, TOTAL, CARL THOMAS, THE LOX and FRENCH MONTANA will take the stage to perform hit after hit, cementing Bad Boy’s place as the driving force behind hip hop and R&B music and culture.  Setting the bar for the best of live production and music experiences, Puff Daddy brings together these iconic artists due to overwhelming fan demand for a must-see moment in hip hop history. The Bad Boy Family Reunion Tour will be coming to Dallas on Wednesday, September 14. DMX was just announced as special guest for the Bad Boy Family Reunion this Wednesday, September 14 at American Airlines Center.  
END:VEVENT
END:VCALENDAR