BEGIN:VCALENDAR
VERSION:2.0
PRODID:-//hacksw/handcal//NONSGML v1.0//EN
BEGIN:VEVENT
DTSTAMP:20150308T183000Z
DTSTART:20150308T183000Z
DTEND:20150308T203000Z

SUMMARY:Big 12 Women's Basketball
DESCRIPTION:The Phillips 66 Women&#39;s Big 12 Basketball Championship will be played March 6-9 at American Airlines Center.All-Session tickets are priced at $105 and $85, plus applicable service charges. Individoal session tickets are $30.50 and $24 for Sessions 1-4 and $38 and $30 for Session 5.  All spectators beginning at age two must have a ticket to enter the arena. The Phillips 66 Big 12 Women&#39;s Basketball Championship is being contested in Dallas for the fourth time and making its second appearance in the American Airlines Center. The 2013 event averaged the second-highest attendance in league history. Following is a complete championship schedule.Friday, March 6 6:00 PM - Game 1: Kansas State (No. 8) vs.  Kansas (No.9) 8:30 PM -  West Virginia (No. 7) vs. Texas Tech (No. 10)Saturday, March 711:00 AM - Game 3: Oklahoma State (No. 4) vs. Iowa State (No. 5)  1:30 PM - Game 4: Baylor (No. 1) vs. Kansas State6:00 PM - Game 5: Oklahoma (No. 2) vs. West Virginia8:30 PM - Game 6: TCU (No. 3) vs. Texas (No. 6)Sunday, March 8 1:30 PM - Game 7: Oklahoma State vs. Baylor4:00 PM - Game 8: Oklahoma vs. TexasMonday, March 9 8:00 PM - Game 9:  Baylor vs. Texas            
END:VEVENT
END:VCALENDAR