BEGIN:VCALENDAR
VERSION:2.0
PRODID:-//hacksw/handcal//NONSGML v1.0//EN
BEGIN:VEVENT
DTSTAMP:20250817T190000Z
DTSTART:20250817T190000Z
DTEND:20250817T210000Z

SUMMARY:BIG3
DESCRIPTION:BIG3 RETURNS TO DALLAS FOR LEAGUE&#39;S EIGHTH SEASON “This is the most anticipated BIG3 season yet,” said BIG3 Co-CEO Ice Cube. “Not only are the players competing for the Dr. J trophy, but also for a $1M win bonus. Beyond that, the play is harder, the players are tougher, and the league is more competitive than ever. Our fans have the chance to be part of history every week when each team makes their hometown debut. Everyone knows that the BIG3 isn’t just what is done on the court – when we come to town, you know there is music, culture, and community to be had. We can’t wait for our fans to meet their teams and experience another summer of the best 3-on-3 basketball starting June 14.”
END:VEVENT
END:VCALENDAR