BEGIN:VCALENDAR
VERSION:2.0
PRODID:-//hacksw/handcal//NONSGML v1.0//EN
BEGIN:VEVENT
DTSTAMP:20190817T180000Z
DTSTART:20190817T180000Z
DTEND:20190817T210000Z

SUMMARY:BIG 3 Ballout 
DESCRIPTION:The BIG3, the premier 3-on-3 basketball league worldwide, is bringing a brand-new major basketball festival, “BIG3 Ballout,” to Dallas on August 17, 2019 with additional events throughout the entire weekend. The festival will feature all six weekly games on one day at American Airlines Center with fans being able to watch six games with just one ticket. Additionally, BIG3 Ballout will include on-court, performances by hip hop artists T.I. and Yella Beezy, a series of Young3 clinics for area youth throughout the weekend, and meet and greets for fans with players.
END:VEVENT
END:VCALENDAR