BEGIN:VCALENDAR
VERSION:2.0
PRODID:-//hacksw/handcal//NONSGML v1.0//EN
BEGIN:VEVENT
DTSTAMP:20221027T010000Z
DTSTART:20221027T010000Z
DTEND:20221027T030000Z

SUMMARY:BLACKPINK WORLD TOUR [BORN PINK]
DESCRIPTION:BLΛƆKPIИK WORLD TOUR [BORN PINK] [DALLAS]•The American Airlines Center is excited to welcome BLACKPINK on Tuesday, October 25. BLACKPINK WORLD TOUR [BORN PINK] is in support of their highly anticipated forthcoming second studio album BORN PINK. The most popular girl group on the planet set two Guinness World Records including most-viewed music video within the first 24 hours of release and earned the status of most-followed girl group on Spotify following the release of their new single “Pink Venom” off their forthcoming album. Don’t miss BLACKPINK’s AAC debut this October!••For the latest fan safety guidelines at AAC: FULL FAN SAFETY GUIDELINES HERE
END:VEVENT
END:VCALENDAR