BEGIN:VCALENDAR
VERSION:2.0
PRODID:-//hacksw/handcal//NONSGML v1.0//EN
BEGIN:VEVENT
DTSTAMP:20231201T020000Z
DTSTART:20231201T020000Z
DTEND:20231201T040000Z

SUMMARY:Andrea Bocelli
DESCRIPTION:Andrea Bocelli’s Dallas performance, presented by AT&T Performing Arts Center, will be his highly anticipated return to American Airlines Center since the 2021 Believe World Tour. The tour will feature performances from Bocelli’s extensive repertoire, including music in honor of the Holiday Season, with selections from his recent #1 album A Family Christmas, his uplifting solo album Believe, as well as a selection of arias, his beloved crossover hits, and famed love songs. CITI Preferred Tickets: Citi Cardholders receive exclusive first access to tickets before general on-sale. Click here for more information.  Check out the latest fan safety guidelines at AAC: FULL FAN SAFETY GUIDELINES HERE
END:VEVENT
END:VCALENDAR