BEGIN:VCALENDAR
VERSION:2.0
PRODID:-//hacksw/handcal//NONSGML v1.0//EN
BEGIN:VEVENT
DTSTAMP:20251125T023000Z
DTSTART:20251125T023000Z
DTEND:20251125T043000Z

SUMMARY:Burna Boy
DESCRIPTION:No Sign Of Weakness Tour
END:VEVENT
END:VCALENDAR