BEGIN:VCALENDAR
VERSION:2.0
PRODID:-//hacksw/handcal//NONSGML v1.0//EN
BEGIN:VEVENT
DTSTAMP:20220925T010000Z
DTSTART:20220925T010000Z
DTEND:20220925T040000Z

SUMMARY:Camilo 
DESCRIPTION:Camilo is bringing his De Adentro Pa Afuera tour to American Airlines Center on Sat. Sept. 24, 2022! For the latest fan safety guidelines at AAC: FULL FAN SAFETY GUIDELINES HERE 
END:VEVENT
END:VCALENDAR