BEGIN:VCALENDAR
VERSION:2.0
PRODID:-//hacksw/handcal//NONSGML v1.0//EN
BEGIN:VEVENT
DTSTAMP:20200204T013000Z
DTSTART:20200204T013000Z
DTEND:20200204T033000Z

SUMMARY:Celine Dion
DESCRIPTION:Celine Dion will be bringing her COURAGE World Tour to American Airlines Center on February 3, 2020. 
END:VEVENT
END:VCALENDAR