BEGIN:VCALENDAR
VERSION:2.0
PRODID:-//hacksw/handcal//NONSGML v1.0//EN
BEGIN:VEVENT
DTSTAMP:20250801T233000Z
DTSTART:20250801T233000Z
DTEND:20250802T013000Z

SUMMARY:Dallas Wings vs. Indiana Fever 
DESCRIPTION:The Dallas Wings will host the Indiana Fever at American Airlines Center! ABOUT THE DALLAS WINGSThe Dallas Wings will celebrate their 10th season in North Texas in 2025, and call College Park Center in Arlington, Texas home. The Wings have advanced to the WNBA Playoffs five of their first nine seasons in Dallas, including reaching the Semifinals in 2023. Fans can follow the team on all social channels, including Facebook, X, Instagram and TikTok.
END:VEVENT
END:VCALENDAR