BEGIN:VCALENDAR
VERSION:2.0
PRODID:-//hacksw/handcal//NONSGML v1.0//EN
BEGIN:VEVENT
DTSTAMP:20170712T000000Z
DTSTART:20170712T000000Z
DTEND:20170712T030000Z

SUMMARY:Daryl Hall & John Oates and Tears For Fears
DESCRIPTION:Rock and Roll Hall of Famers, Daryl Hall & John Oates are partnering with international multi-platinum selling band, Tears For Fears, for a 29-city North American tour coming to American Airlines Center on Tuesday, July 11.
END:VEVENT
END:VCALENDAR