BEGIN:VCALENDAR
VERSION:2.0
PRODID:-//hacksw/handcal//NONSGML v1.0//EN
BEGIN:VEVENT
DTSTAMP:20241028T003000Z
DTSTART:20241028T003000Z
DTEND:20241028T023000Z

SUMMARY:Don Toliver
DESCRIPTION:Psycho Tourwith special guests SKI MASK THE SLUMP GOD • MONALEO • MOLLY SANTANA
END:VEVENT
END:VCALENDAR