BEGIN:VCALENDAR
VERSION:2.0
PRODID:-//hacksw/handcal//NONSGML v1.0//EN
BEGIN:VEVENT
DTSTAMP:20191018T000000Z
DTSTART:20191018T000000Z
DTEND:20191018T030000Z

SUMMARY:Donald Trump Campaign Rally
DESCRIPTION:Donald J. Trump for President, Inc. announced that President Trump will host a Keep America Great rally on Thursday, October 17 at 7:00 pm CDT. Rally Attendee InformationParkingLexus Garage and Lot E will open at 4:30AMD Garage, Lot M, and Lot K will open at 5:00PM RV/Bus parking will be located in Inspiration Lot (1530 Inspiration Dr)Line-UpGuests may start lining up at 6:00AM, guests will not be allowed onto arena property prior to that time.Portable toilets will be available.Food trucks will be available.Guests may bring chairs or snacks while they are lined up.  However, these items will NOT be allowed in the building once doors are open.EMTs and DPD will be on site.Tickets/SeatingGeneral Admission, no reserved seats.Guests may register online for a ticket.  However, the ticket does not guarantee entry. It is first-come, first-served. ADA platforms will be reserved for guests in wheelchairs on a first-come, first-served basis. We will not be able to accommodate mobility needs. We cannot/will not reserve space or seats for individuals in wheelchairs or anyone else.Ticket inquiries (347) 979-0837.Door OpeningAll doors will open at 4:00PM. No building entry for any reason prior to door opening timeEvent TimesThe event is scheduled to begin at approximately 7:00PMSecurity CheckSecurity checks will be conducted upon entry including bag checking and wanding.No Checked items will be allowed.Bag PolicyBags larger than 14"x14"x6” (i.e. suitcases, beach bags, large purses, etc.) will be prohibited from entry into the arena. Clear bags are recommended but not required.No Backpacks with multiple zippers or compartments are allowed.All bags are subject to inspection.Prohibited ItemsFor safety reasons, patrons may be refused entry if they are in possession of prohibited items including, but not limited to:Alcoholic beverages/illegal drugsFood and drinksDrones or other flying devicesVideo recorders and audio recordersGlass, plastic, metal containers and flasksFireworks/flares, Laser pointersCoolers (hard/soft side)Weapons of any kind including knivesBaby seats or carriersArtificial noise makers (air horns, drums, whistles)Balloons, glow sticks, frisbees, permanent markers, spray paint, streamers, glitter/confettiBeach balls or InflatablesParcels or packagesChairs/stoolsPamphlets, product samplesSkateboards, rollerblades, bicycles, helmets Laptop/Tablet computers, 2-way radios, flashlightsBags ( large bags, suitcases, luggage, backpacks): may not be larger than 14"x14"x6” Any other items deemed dangerous and/or inappropriate 
END:VEVENT
END:VCALENDAR