BEGIN:VCALENDAR
VERSION:2.0
PRODID:-//hacksw/handcal//NONSGML v1.0//EN
BEGIN:VEVENT
DTSTAMP:20230916T010000Z
DTSTART:20230916T010000Z
DTEND:20230916T040000Z

SUMMARY:Drake
DESCRIPTION:Drake is bringing his It’s All A Blur Tour to American Airlines Center on September 14 & 15 with special guest 21 Savage. 🚨 SHOW ALERT: Please note for the upcoming Drake: It’s All A Blur Tour shows at American Airlines Center on September 14+15, doors will be at 7:00 PM, show time at 8:00 PM.🚨 
END:VEVENT
END:VCALENDAR