BEGIN:VCALENDAR
VERSION:2.0
PRODID:-//hacksw/handcal//NONSGML v1.0//EN
BEGIN:VEVENT
DTSTAMP:20160420T000000Z
DTSTART:20160420T000000Z
DTEND:20160420T020000Z

SUMMARY:Duran Duran
DESCRIPTION:In what is promising to be one of the most eagerly anticipated tours of 2016, multi-platinum superstars Duran Duran have announced that they will hit the road for an extensive North American arena and amphitheatre tour next year in support of their current album Paper Gods. The legendary band, CHIC, led by guitarist Nile Rodgers, will appear as special guests on almost all of the dates with an additional support act to be announced. Rodgers served as a producer on Paper Gods and has enjoyed a long collaborative history with Duran Duran. Every ticket purchased online for Duran Duran&#39;s 2016 headline tour will receive a standard physical copy of Paper Gods.  Fans will receive an email 10-14 days after purchase containing redemption instructions.  
END:VEVENT
END:VCALENDAR