BEGIN:VCALENDAR
VERSION:2.0
PRODID:-//hacksw/handcal//NONSGML v1.0//EN
BEGIN:VEVENT
DTSTAMP:20170819T003000Z
DTSTART:20170819T003000Z
DTEND:20170819T033000Z

SUMMARY:Ed Sheeran
DESCRIPTION:Ed Sheeran will be performing at American Airlines Center on August 18. James Blunt has been added as the special guest. 
END:VEVENT
END:VCALENDAR