BEGIN:VCALENDAR
VERSION:2.0
PRODID:-//hacksw/handcal//NONSGML v1.0//EN
BEGIN:VEVENT
DTSTAMP:20261016T000000Z
DTSTART:20261016T000000Z
DTEND:20261016T020000Z

SUMMARY:Elevation Worship
DESCRIPTION:Tour 2026Elevation Worship & Steven Furtick are adding more dates to the Elevation Nights Tour this fall 2026. Don’t miss a powerful night with Pastor Steven Furtick bringing a timely message and Elevation Worship leading favorites like “Praise,” “Trust In God,” and “RATTLE!” alongside new music including “Jesus Be The Name.” The night begins with ELEVATION RHYTHM performing hits like “At The Altar”, "GOODBYE YESTERDAY", and their latest release, “WASHED.”
END:VEVENT
END:VCALENDAR