BEGIN:VCALENDAR
VERSION:2.0
PRODID:-//hacksw/handcal//NONSGML v1.0//EN
BEGIN:VEVENT
DTSTAMP:20220311T020000Z
DTSTART:20220311T020000Z
DTEND:20220311T050000Z

SUMMARY:Elton John 
DESCRIPTION:Elton John’s concert originally scheduled for January 25 at American Airlines Center has been rescheduled for March 10. All previously purchased tickets will be valid. For the latest fan safety guidelines at AAC: FULL FAN SAFETY GUIDELINES HERE
END:VEVENT
END:VCALENDAR