BEGIN:VCALENDAR
VERSION:2.0
PRODID:-//hacksw/handcal//NONSGML v1.0//EN
BEGIN:VEVENT
DTSTAMP:20181215T020000Z
DTSTART:20181215T020000Z
DTEND:20181215T050000Z

SUMMARY:Elton John
DESCRIPTION:After more than half a century on the road and an unparalleled career that has redefined the cultural landscape and seen Elton John claim his place as a true global icon, the superstar is bringing his final tour Farewell Yellow Brick Road to American Airlines Center on December 14 & 15.
END:VEVENT
END:VCALENDAR