BEGIN:VCALENDAR
VERSION:2.0
PRODID:-//hacksw/handcal//NONSGML v1.0//EN
BEGIN:VEVENT
DTSTAMP:20230225T020000Z
DTSTART:20230225T020000Z
DTEND:20230225T053000Z

SUMMARY:Fall Back In Love - Comedy & Music Jam 
DESCRIPTION:Portal Entertainment Presents...Fall Back In Love - Comedy & Music Jam Featuring appearances by: Rip MichealsMonicaTrey SongzMarioAugust AlsinaJacqueesDC Young FlyLil DuvalEmmanuel HudsonZoie FentyDaphnique SpringsBrandon T. JacksonDJ EnvyAND MORE TBA!*Artist lineup is subject to change. 
END:VEVENT
END:VCALENDAR