BEGIN:VCALENDAR
VERSION:2.0
PRODID:-//hacksw/handcal//NONSGML v1.0//EN
BEGIN:VEVENT
DTSTAMP:20211011T000000Z
DTSTART:20211011T000000Z
DTEND:20211011T040000Z

SUMMARY:Legendz of The Streetz Tour - Rick Ross, Jeezy, Gucci Mane and 2 Chainz
DESCRIPTION:HIP-HOP HEAVYWEIGHTS RICK ROSS, JEEZY, GUCCI MANE AND 2 CHAINZ, WITH SPECIAL GUESTS FABOLOUS, BOOSIE BADAZZ AND DJ DRAMA ARE ALL HITTING THE ROAD THIS FALL FOR THE HISTORIC LEGENDZ OF THE STREETZ TOUR! HITTING AMERICAN AIRLINES CENTER ON OCTOBER 10! For the latest fan safety guidelines at AAC: FULL FAN SAFETY GUIDELINES HERE 
END:VEVENT
END:VCALENDAR