BEGIN:VCALENDAR
VERSION:2.0
PRODID:-//hacksw/handcal//NONSGML v1.0//EN
BEGIN:VEVENT
DTSTAMP:20240607T003000Z
DTSTART:20240607T003000Z
DTEND:20240607T033000Z

SUMMARY:Official Dallas Mavericks Watch Party
DESCRIPTION:NBA Finals Game 1Come cheer on your Dallas Mavericks in the 2024 NBA Finals. American Airlines Center will host watch parties inside the arena during Mavs v. Celtics away games.
END:VEVENT
END:VCALENDAR