BEGIN:VCALENDAR
VERSION:2.0
PRODID:-//hacksw/handcal//NONSGML v1.0//EN
BEGIN:VEVENT
DTSTAMP:20160519T003000Z
DTSTART:20160519T003000Z
DTEND:20160519T023000Z

SUMMARY:Florence + The Machine
DESCRIPTION:Following a gigantic 2015, which saw the release of their first U.S. #1 album How Big How Blue How Beautiful (Republic Records), Florence + The Machine will embark on their “How Beautiful” tour of North America this spring with support from Grimes. The tour will make it&#39;s stop in Dallas on Wednesday, May 18.American Express Card Members can purchase tickets in select markets before the general public beginning Tuesday, January 12 at 10:00 A.M. CT through Friday, January 15 at 10:00 P.M. CT. Tickets go on sale to the public Saturday, January 16 at 10:00 A.M. CT. Tickets available online at Ticketmaster.com or by calling 800-745-3000. 
END:VEVENT
END:VCALENDAR