BEGIN:VCALENDAR
VERSION:2.0
PRODID:-//hacksw/handcal//NONSGML v1.0//EN
BEGIN:VEVENT
DTSTAMP:20221128T010000Z
DTSTART:20221128T010000Z
DTEND:20221128T040000Z

SUMMARY:FOR KING + COUNTRY - “A DRUMMER BOY CHRISTMAS | THE 2022 TOUR EXPERIENCE” 
DESCRIPTION:FOR KING + COUNTRY ring in the holiday season at the AAC with "A DRUMMER BOY CHRISTMAS | The 2022 Tour Experience!"
END:VEVENT
END:VCALENDAR