BEGIN:VCALENDAR
VERSION:2.0
PRODID:-//hacksw/handcal//NONSGML v1.0//EN
BEGIN:VEVENT
DTSTAMP:20241111T010000Z
DTSTART:20241111T010000Z
DTEND:20241111T030000Z

SUMMARY:for KING + COUNTRY LIVE
DESCRIPTION:The UNSUNG HERO 2024 TourGRAMMY-award winning duo for KING + COUNTRY is bringing ‘ for KING + COUNTRY LIVE: The UNSUNG HERO 2024 Tour’ your way this fall! Performing brand new music from the ‘UNSUNG HERO Inspired By’ soundtrack (along with many of your favorite songs from their award winning albums), brothers Joel + Luke are hitting the road to 31 cities across the US to give you an innovative new production unlike any other for KING + COUNTRY show you’ve ever seen. You’ve seen the film. Now hear the music that inspired it! Consider this your personal invitation- grab your friends & loved ones and a ticket, and we’ll see you very soon.
END:VEVENT
END:VCALENDAR