BEGIN:VCALENDAR
VERSION:2.0
PRODID:-//hacksw/handcal//NONSGML v1.0//EN
BEGIN:VEVENT
DTSTAMP:20150327T200000Z
DTSTART:20150327T200000Z
DTEND:20150327T220000Z

SUMMARY:Disney on Ice presents: Frozen
DESCRIPTION:Enter a fantastical winter wonderland at Disney On Ice presents Frozen! The Academy Award winning movie is LIVE and coming to your town with dazzling special effects, astonishing skating and inspiring songs like "Let It Go." Join Elsa and Anna, Olaf, Kristoff, his reindeer Sven, hosts Mickey Mouse and Minnie Mouse and many more of your favorite Disney characters for this unforgettable celebration of love and friendship!     
END:VEVENT
END:VCALENDAR