BEGIN:VCALENDAR
VERSION:2.0
PRODID:-//hacksw/handcal//NONSGML v1.0//EN
BEGIN:VEVENT
DTSTAMP:20230313T000000Z
DTSTART:20230313T000000Z
DTEND:20230313T033000Z

SUMMARY:Future and Friends - One Big Party Tour
DESCRIPTION:FUTUREwith special guestsMariah the ScientistG HerboDon ToliverDess Dior
END:VEVENT
END:VCALENDAR