BEGIN:VCALENDAR
VERSION:2.0
PRODID:-//hacksw/handcal//NONSGML v1.0//EN
BEGIN:VEVENT
DTSTAMP:20250216T210000Z
DTSTART:20250216T210000Z
DTEND:20250216T230000Z

SUMMARY:Harlem Globetrotters 
DESCRIPTION:2025 World TourGet ready for a slam-dunk extravaganza as the world-famous Harlem Globetrotters make their triumphant return to American Airlines Center!Unrivaled fan engagement continues with pre-game offerings like our Magic Pass, unforgettable post-game access and more in-game fan interactions than ever before.For groups of 10 or more, please contact HGI-Groups@comcastspectacor.com or 215-952-5200
END:VEVENT
END:VCALENDAR