BEGIN:VCALENDAR
VERSION:2.0
PRODID:-//hacksw/handcal//NONSGML v1.0//EN
BEGIN:VEVENT
DTSTAMP:20200223T010000Z
DTSTART:20200223T010000Z
DTEND:20200223T030000Z

SUMMARY:Harlem Globetrotters
DESCRIPTION:The Harlem Globetrotters will return to American Airlines Center on February 22, 2020 at 2PM & 7PM
END:VEVENT
END:VCALENDAR