BEGIN:VCALENDAR
VERSION:2.0
PRODID:-//hacksw/handcal//NONSGML v1.0//EN
BEGIN:VEVENT
DTSTAMP:20250711T010000Z
DTSTART:20250711T010000Z
DTEND:20250711T030000Z

SUMMARY:Hombres G and Enanitos Verdes
DESCRIPTION:Huevos Revueltos Tour
END:VEVENT
END:VCALENDAR