BEGIN:VCALENDAR
VERSION:2.0
PRODID:-//hacksw/handcal//NONSGML v1.0//EN
BEGIN:VEVENT
DTSTAMP:20190625T010000Z
DTSTART:20190625T010000Z
DTEND:20190625T040000Z

SUMMARY:Jennifer Lopez
DESCRIPTION:Don&#39;t miss your chance to dine in the exclusive Lexus Platinum Club prior to seeing J Lo on June 24, 2019.The Chef&#39;s Table buffet dinner boasts an array of fresh, seasonal items and creative menus from Chef Mark Mabry and his first class culinary team.Adults: $39.50; Kids (Ages 6-12): $18.00; Kids (Ages 5 and younger):FreeSeatings begin at 6:30pmClick here to reserve your spot now. 
END:VEVENT
END:VCALENDAR