BEGIN:VCALENDAR
VERSION:2.0
PRODID:-//hacksw/handcal//NONSGML v1.0//EN
BEGIN:VEVENT
DTSTAMP:20211012T010000Z
DTSTART:20211012T010000Z
DTEND:20211012T050000Z

SUMMARY:J. Cole 
DESCRIPTION:J. Cole is bringing The Off-Season Tour with 21 Savage and special guest Morray to American Airlines Center on October 11, 2021! For the latest fan safety guidelines at AAC: FULL FAN SAFETY GUIDELINES HERE 
END:VEVENT
END:VCALENDAR