BEGIN:VCALENDAR
VERSION:2.0
PRODID:-//hacksw/handcal//NONSGML v1.0//EN
BEGIN:VEVENT
DTSTAMP:20190216T230000Z
DTSTART:20190216T230000Z
DTEND:20190217T010000Z

SUMMARY:Jeff Dunham - POSTPONED TO JUNE 22
DESCRIPTION:The Jeff Dunham show on February 16 at American Airlines Center has been postponed to June 22.  Tickets purchased for the original February 16 show will be honored at the June 22 show.  Global Comedy Sensation Jeff Dunham has decided to make his next Netflix special a giant homecoming, taping in his hometown of Dallas, Texas. To accommodate the massive production, his currently sold out February 16th show at the American Airlines Center will now be moved to June 22nd, and by popular demand, a second show is being added June 21.  (Tickets on sale January 25th at www.jeffdunham.com ) The show will be Dunham’s second Netflix original special, and the eighth in his string of record-breaking stand up television events.
END:VEVENT
END:VCALENDAR