BEGIN:VCALENDAR
VERSION:2.0
PRODID:-//hacksw/handcal//NONSGML v1.0//EN
BEGIN:VEVENT
DTSTAMP:20151202T013000Z
DTSTART:20151202T013000Z
DTEND:20151202T033000Z

SUMMARY:106.1 KISS FM’s Jingle Ball
DESCRIPTION:Featured performers:One DirectionCalvin HarrisDemi Lovato5 Seconds of SummerEllie GouldingZeddShawn MendesTove LoCharlie PuthDNCE $1 per every ticket sold will be donated to Kidd&#39;s Kids. *Parent&#39;s Lounge will be located in Eighteen 76 Bar located on the corner of All Star Way and N. Houston St.  
END:VEVENT
END:VCALENDAR