BEGIN:VCALENDAR
VERSION:2.0
PRODID:-//hacksw/handcal//NONSGML v1.0//EN
BEGIN:VEVENT
DTSTAMP:20230917T010000Z
DTSTART:20230917T010000Z
DTEND:20230917T040000Z

SUMMARY:Jo Koy
DESCRIPTION:World TourAmerican Airlines CenterSeptember 16, 2023_Coming off of the highly anticipated Universal Picture film, Easter Sunday and his recent Netflix special, Jo Koy: Live From The Los Angeles Forum, Comedian Jo Koy announces his 2023 Jo Koy World Tour. As one of today’s premiere stand-up comedians, Jo Koy has come a long way from his modest beginnings performing in a Las Vegas coffee house. Jo’s uniquely relatable comedy pulls inspiration from his colorful family that has reached all kinds of people and has translated into sold-out arenas around the world. 
END:VEVENT
END:VCALENDAR