BEGIN:VCALENDAR
VERSION:2.0
PRODID:-//hacksw/handcal//NONSGML v1.0//EN
BEGIN:VEVENT
DTSTAMP:20190906T003000Z
DTSTART:20190906T003000Z
DTEND:20190906T033000Z

SUMMARY:John Mayer
DESCRIPTION:John Mayer is bringing his Summer Tour 2019 to American Airlines Center on September 5, 2019. 
END:VEVENT
END:VCALENDAR