BEGIN:VCALENDAR
VERSION:2.0
PRODID:-//hacksw/handcal//NONSGML v1.0//EN
BEGIN:VEVENT
DTSTAMP:20231029T010000Z
DTSTART:20231029T010000Z
DTEND:20231029T030000Z

SUMMARY:John Mayer
DESCRIPTION:SOLOJohn Mayer has announced his SOLO Tour 2023 will make a stop in Dallas on October 28, 2023!For the first time in his career, trailblazer John Mayer has set a groundbreaking solo acoustic tour for spring 2023. Known for an effortless blend of mind-blowing guitar playing, soulful voice and impeccable songwriting abilities, Mayer has lit up the charts with numerous massive hits such as “New Light,” “Gravity,” “Love on the Weekend,” “Heartbreak Warfare,” “Daughters,” “Waiting on the World to Change,” “Last Train Home,” and “Your Body Is a Wonderland.” The 2023 tour has been 20 years in the making and will feature rare, full acoustic sets from John Mayer performing these songs, and many more.
END:VEVENT
END:VCALENDAR