BEGIN:VCALENDAR
VERSION:2.0
PRODID:-//hacksw/handcal//NONSGML v1.0//EN
BEGIN:VEVENT
DTSTAMP:20190926T003000Z
DTSTART:20190926T003000Z
DTEND:20190926T023000Z

SUMMARY:Jonas Brothers
DESCRIPTION:Jonas Brothers are bringing their Happiness Begins Tour to American Airlines Center on September 25, with special guest Jordan McGraw and Olivia Somerlyn.
END:VEVENT
END:VCALENDAR