BEGIN:VCALENDAR
VERSION:2.0
PRODID:-//hacksw/handcal//NONSGML v1.0//EN
BEGIN:VEVENT
DTSTAMP:20151204T020000Z
DTSTART:20151204T020000Z
DTEND:20151204T040000Z

SUMMARY:Juan Gabriel
DESCRIPTION:Juan Gabriel, the Mexican icon, welcomes you along to join him in his multi city journey to Noa Noa, a tour that is scheduled to kick off in Los Angeles on Friday, September 11, 2015. It’s tour concept features a brand new fun & flirty production that will take you through Juan Gabriel’s 45 year-artistic career, combining more than 50 talented musical acts including mariachi, orchestra, dancers, and backup singers together in a way that is sure to get you up out of your seat! Tickets will go on sale to general public on Firday, June 26 at 10am CST.Por rumadora demanda popular y tras el éxito de su gira previa “Volver,” el icono Mexicano, esta vez regresa a los EE.UU con una gira de varias ciudades que iniciara en Los Angeles el viernes, 11 de septiembre del 2015. Boletos salen a la venta al público el viernes, 26 de junio en 10am CST.   
END:VEVENT
END:VCALENDAR