BEGIN:VCALENDAR
VERSION:2.0
PRODID:-//hacksw/handcal//NONSGML v1.0//EN
BEGIN:VEVENT
DTSTAMP:20220502T003000Z
DTSTART:20220502T003000Z
DTEND:20220502T033000Z

SUMMARY:Justin Bieber
DESCRIPTION:Justin Bieber’s show originally scheduled for August 6, 2021 has been rescheduled to May 1, 2022. All tickets purchased for the originally scheduled date are still valid. For additional information about this rescheduled event, click here [https://rescheduled.aegpresents.com/] For the latest fan safety guidelines at AAC: FULL FAN SAFETY GUIDELINES HERE
END:VEVENT
END:VCALENDAR