BEGIN:VCALENDAR
VERSION:2.0
PRODID:-//hacksw/handcal//NONSGML v1.0//EN
BEGIN:VEVENT
DTSTAMP:20190125T013000Z
DTSTART:20190125T013000Z
DTEND:20190125T033000Z

SUMMARY:Justin Timberlake
DESCRIPTION:Justin Timberlake is bringing The Man of the Woods Tour back to Dallas on January 24, 2019.
END:VEVENT
END:VCALENDAR