BEGIN:VCALENDAR
VERSION:2.0
PRODID:-//hacksw/handcal//NONSGML v1.0//EN
BEGIN:VEVENT
DTSTAMP:20250831T010000Z
DTSTART:20250831T010000Z
DTEND:20250831T030000Z

SUMMARY:Kali Uchis
DESCRIPTION:The Sincerely, Tourwith special guest Thee Sacred Souls
END:VEVENT
END:VCALENDAR