BEGIN:VCALENDAR
VERSION:2.0
PRODID:-//hacksw/handcal//NONSGML v1.0//EN
BEGIN:VEVENT
DTSTAMP:20220724T003000Z
DTSTART:20220724T003000Z
DTEND:20220724T033000Z

SUMMARY:Kendrick Lamar 
DESCRIPTION:Kendrick Lamar is bringing The Big Steppers Tour with Baby Keem & Tanna Leone to American Airlines Center on Sat. July 23, 2022!For the latest fan safety guidelines at AAC: FULL FAN SAFETY GUIDELINES HERE 
END:VEVENT
END:VCALENDAR