BEGIN:VCALENDAR
VERSION:2.0
PRODID:-//hacksw/handcal//NONSGML v1.0//EN
BEGIN:VEVENT
DTSTAMP:20181027T000000Z
DTSTART:20181027T000000Z
DTEND:20181027T030000Z

SUMMARY:Kevin Hart
DESCRIPTION:All cell phone use will be strictly prohibited during Kevin Hart&#39;s performance. If a cell phone is seen out during the show, the guest will be asked to leave the building. No second warning will be issued. Comedy legend Kevin Hart returns to American Airlines Center for his latest performance, Irresponsible Tour, on October 26, 2018.
END:VEVENT
END:VCALENDAR