BEGIN:VCALENDAR
VERSION:2.0
PRODID:-//hacksw/handcal//NONSGML v1.0//EN
BEGIN:VEVENT
DTSTAMP:20230206T010000Z
DTSTART:20230206T010000Z
DTEND:20230206T030000Z

SUMMARY:Legendz of the Streetz
DESCRIPTION:HIP-HOP HEAVYWEIGHTS JEEZY, TI, GUCCI MANE, 2 CHAINZ, JADAKISS, CAM&#39;RON, TRINA AND MORE* RETURN FOR THE HISTORIC “LEGENDZ OF THE STREETZ” TOUR: ‘RELOADED’ EDITION 2023! *Lineup is subject to change. 
END:VEVENT
END:VCALENDAR