BEGIN:VCALENDAR
VERSION:2.0
PRODID:-//hacksw/handcal//NONSGML v1.0//EN
BEGIN:VEVENT
DTSTAMP:20221029T010000Z
DTSTART:20221029T010000Z
DTEND:20221029T040000Z

SUMMARY:Lizzo
DESCRIPTION:Lizzo is bringing The Special Tour with special guest Latto to American Airlines Center on October 28, 2022!For the latest fan safety guidelines at AAC: FULL FAN SAFETY GUIDELINES HERE
END:VEVENT
END:VCALENDAR