BEGIN:VCALENDAR
VERSION:2.0
PRODID:-//hacksw/handcal//NONSGML v1.0//EN
BEGIN:VEVENT
DTSTAMP:20180319T000000Z
DTSTART:20180319T000000Z
DTEND:20180319T020000Z

SUMMARY:Lorde
DESCRIPTION:In support of her sophomore album, Melodrama, LORDE announces her 2018 North American tour with special guest Run the Jewels to American Airlines Center on March 18, 2018.Fans can sign up for Lorde’s email list for first access to pre-sale tickets and find more info on tour dates here: https://lorde.co.nz/melodrama-tour
END:VEVENT
END:VCALENDAR